


BEGIN:VCALENDAR
VERSION:2.0
PRODID:-//NDFHS - ECPv6.15.20//NONSGML v1.0//EN
CALSCALE:GREGORIAN
METHOD:PUBLISH
X-WR-CALNAME:NDFHS
X-ORIGINAL-URL:https://www.ndfhs.org.uk
X-WR-CALDESC:Events for NDFHS
REFRESH-INTERVAL;VALUE=DURATION:PT1H
X-Robots-Tag:noindex
X-PUBLISHED-TTL:PT1H
BEGIN:VTIMEZONE
TZID:Europe/London
BEGIN:DAYLIGHT
TZOFFSETFROM:+0000
TZOFFSETTO:+0100
TZNAME:BST
DTSTART:20250330T010000
END:DAYLIGHT
BEGIN:STANDARD
TZOFFSETFROM:+0100
TZOFFSETTO:+0000
TZNAME:GMT
DTSTART:20251026T010000
END:STANDARD
BEGIN:DAYLIGHT
TZOFFSETFROM:+0000
TZOFFSETTO:+0100
TZNAME:BST
DTSTART:20260329T010000
END:DAYLIGHT
BEGIN:STANDARD
TZOFFSETFROM:+0100
TZOFFSETTO:+0000
TZNAME:GMT
DTSTART:20261025T010000
END:STANDARD
BEGIN:DAYLIGHT
TZOFFSETFROM:+0000
TZOFFSETTO:+0100
TZNAME:BST
DTSTART:20270328T010000
END:DAYLIGHT
BEGIN:STANDARD
TZOFFSETFROM:+0100
TZOFFSETTO:+0000
TZNAME:GMT
DTSTART:20271031T010000
END:STANDARD
END:VTIMEZONE
BEGIN:VEVENT
DTSTART;TZID=Europe/London:20260523T100000
DTEND;TZID=Europe/London:20260523T150000
DTSTAMP:20260423T091201
CREATED:20251123T111741Z
LAST-MODIFIED:20251123T111741Z
UID:69977-1779530400-1779548400@www.ndfhs.org.uk
SUMMARY:Family History Meet and Greet
DESCRIPTION:More details to follow when library publishes details
URL:https://www.ndfhs.org.uk/event/family-history-meet-and-greet/
LOCATION:Newcastle City Library\, 33 New Bridge Street West\, Newcastle upon Tyne\, NE1 8AX\, United Kingdom
END:VEVENT
END:VCALENDAR